BEGIN:VCALENDAR
VERSION:2.0
PRODID:-//Arbeitsgemeinschaft Christlicher Kirchen - ECPv6.3.2//NONSGML v1.0//EN
CALSCALE:GREGORIAN
METHOD:PUBLISH
X-ORIGINAL-URL:https://www.ack-hd.de
X-WR-CALDESC:Veranstaltungen für Arbeitsgemeinschaft Christlicher Kirchen
REFRESH-INTERVAL;VALUE=DURATION:PT1H
X-Robots-Tag:noindex
X-PUBLISHED-TTL:PT1H
BEGIN:VTIMEZONE
TZID:Europe/Berlin
BEGIN:DAYLIGHT
TZOFFSETFROM:+0100
TZOFFSETTO:+0200
TZNAME:CEST
DTSTART:20250330T010000
END:DAYLIGHT
BEGIN:STANDARD
TZOFFSETFROM:+0200
TZOFFSETTO:+0100
TZNAME:CET
DTSTART:20251026T010000
END:STANDARD
END:VTIMEZONE
BEGIN:VEVENT
DTSTART;TZID=Europe/Berlin:20250714T193000
DTEND;TZID=Europe/Berlin:20250714T213000
DTSTAMP:20260422T043735
CREATED:20241209T112854Z
LAST-MODIFIED:20250703T080233Z
UID:680-1752521400-1752528600@www.ack-hd.de
SUMMARY:Delegiertenversammlung
DESCRIPTION:
URL:https://www.ack-hd.de/event/delegiertenversammlung-19/
LOCATION:Hoffnungskirche\, Feuerbachstr. 4\, Heidelberg\, 69126\, Deutschland
CATEGORIES:Arbeitskreise
END:VEVENT
END:VCALENDAR