BEGIN:VCALENDAR
VERSION:2.0
PRODID:-//Arbeitsgemeinschaft Christlicher Kirchen - ECPv6.3.2//NONSGML v1.0//EN
CALSCALE:GREGORIAN
METHOD:PUBLISH
X-ORIGINAL-URL:https://www.ack-hd.de
X-WR-CALDESC:Veranstaltungen für Arbeitsgemeinschaft Christlicher Kirchen
REFRESH-INTERVAL;VALUE=DURATION:PT1H
X-Robots-Tag:noindex
X-PUBLISHED-TTL:PT1H
BEGIN:VTIMEZONE
TZID:Europe/Berlin
BEGIN:DAYLIGHT
TZOFFSETFROM:+0100
TZOFFSETTO:+0200
TZNAME:CEST
DTSTART:20250330T010000
END:DAYLIGHT
BEGIN:STANDARD
TZOFFSETFROM:+0200
TZOFFSETTO:+0100
TZNAME:CET
DTSTART:20251026T010000
END:STANDARD
END:VTIMEZONE
BEGIN:VEVENT
DTSTART;TZID=Europe/Berlin:20250514T193000
DTEND;TZID=Europe/Berlin:20250514T213000
DTSTAMP:20260422T072318
CREATED:20241209T112727Z
LAST-MODIFIED:20250505T155424Z
UID:678-1747251000-1747258200@www.ack-hd.de
SUMMARY:Delegiertenversammlung (durch Vorstand abgesagt)
DESCRIPTION:
URL:https://www.ack-hd.de/event/delegiertenversammlung-18/
LOCATION:Hoffnungskirche\, Feuerbachstr. 4\, Heidelberg\, 69126\, Deutschland
CATEGORIES:Arbeitskreise
END:VEVENT
END:VCALENDAR