BEGIN:VCALENDAR
VERSION:2.0
PRODID:-//Arbeitsgemeinschaft Christlicher Kirchen - ECPv6.3.2//NONSGML v1.0//EN
CALSCALE:GREGORIAN
METHOD:PUBLISH
X-ORIGINAL-URL:https://www.ack-hd.de
X-WR-CALDESC:Veranstaltungen für Arbeitsgemeinschaft Christlicher Kirchen
REFRESH-INTERVAL;VALUE=DURATION:PT1H
X-Robots-Tag:noindex
X-PUBLISHED-TTL:PT1H
BEGIN:VTIMEZONE
TZID:Europe/Berlin
BEGIN:DAYLIGHT
TZOFFSETFROM:+0100
TZOFFSETTO:+0200
TZNAME:CEST
DTSTART:20240331T010000
END:DAYLIGHT
BEGIN:STANDARD
TZOFFSETFROM:+0200
TZOFFSETTO:+0100
TZNAME:CET
DTSTART:20241027T010000
END:STANDARD
END:VTIMEZONE
BEGIN:VEVENT
DTSTART;TZID=Europe/Berlin:20240312T193000
DTEND;TZID=Europe/Berlin:20240312T220000
DTSTAMP:20260423T040717
CREATED:20240209T111356Z
LAST-MODIFIED:20240213T090017Z
UID:559-1710271800-1710280800@www.ack-hd.de
SUMMARY:Delegiertenversammlung
DESCRIPTION:Treffpunkt Kirche\, Karlsruher Straße 90
URL:https://www.ack-hd.de/event/delegiertenversammlung-11/
CATEGORIES:Arbeitskreise
END:VEVENT
END:VCALENDAR