BEGIN:VCALENDAR
VERSION:2.0
PRODID:-//Arbeitsgemeinschaft Christlicher Kirchen - ECPv6.3.2//NONSGML v1.0//EN
CALSCALE:GREGORIAN
METHOD:PUBLISH
X-ORIGINAL-URL:https://www.ack-hd.de
X-WR-CALDESC:Veranstaltungen für Arbeitsgemeinschaft Christlicher Kirchen
REFRESH-INTERVAL;VALUE=DURATION:PT1H
X-Robots-Tag:noindex
X-PUBLISHED-TTL:PT1H
BEGIN:VTIMEZONE
TZID:Europe/Berlin
BEGIN:DAYLIGHT
TZOFFSETFROM:+0100
TZOFFSETTO:+0200
TZNAME:CEST
DTSTART:20230326T010000
END:DAYLIGHT
BEGIN:STANDARD
TZOFFSETFROM:+0200
TZOFFSETTO:+0100
TZNAME:CET
DTSTART:20231029T010000
END:STANDARD
END:VTIMEZONE
BEGIN:VEVENT
DTSTART;TZID=Europe/Berlin:20231031T193000
DTEND;TZID=Europe/Berlin:20231031T210000
DTSTAMP:20260423T104048
CREATED:20231005T110931Z
LAST-MODIFIED:20231013T093148Z
UID:513-1698780600-1698786000@www.ack-hd.de
SUMMARY:Reformationsgottesdienst
DESCRIPTION:Die Arbeitsgemeinschaft Christlicher Kirchen (ACK) lädt zu einem ökumenischen Gottesdienst am Dienstag\, den 31. Oktober\, um 19.30 Uhr\, in der Heiliggeistkirche aus Anlass des Reformationstags ein. \nPrediger wird in diesem Jahr der neue Pfarrer der Alt-Katholischen Kirche Heidelberg\, Alexander Eck\, sein. Das Alt-Katholische Bistum in Deutschland feiert in diesem Jahr sein 150jähriges Bestehen.
URL:https://www.ack-hd.de/event/reformationsgottesdienst/
LOCATION:Heiliggeistkirche Heidelberg\, Hauptstraße 189\, Heidelberg\, 69117\, Deutschland
CATEGORIES:Gottesdienste
END:VEVENT
END:VCALENDAR