BEGIN:VCALENDAR
VERSION:2.0
PRODID:-//Arbeitsgemeinschaft Christlicher Kirchen - ECPv6.3.2//NONSGML v1.0//EN
CALSCALE:GREGORIAN
METHOD:PUBLISH
X-WR-CALNAME:Arbeitsgemeinschaft Christlicher Kirchen
X-ORIGINAL-URL:https://www.ack-hd.de
X-WR-CALDESC:Veranstaltungen für Arbeitsgemeinschaft Christlicher Kirchen
REFRESH-INTERVAL;VALUE=DURATION:PT1H
X-Robots-Tag:noindex
X-PUBLISHED-TTL:PT1H
BEGIN:VTIMEZONE
TZID:Europe/Berlin
BEGIN:DAYLIGHT
TZOFFSETFROM:+0100
TZOFFSETTO:+0200
TZNAME:CEST
DTSTART:20250330T010000
END:DAYLIGHT
BEGIN:STANDARD
TZOFFSETFROM:+0200
TZOFFSETTO:+0100
TZNAME:CET
DTSTART:20251026T010000
END:STANDARD
END:VTIMEZONE
BEGIN:VEVENT
DTSTART;TZID=Europe/Berlin:20250609T110000
DTEND;TZID=Europe/Berlin:20250609T120000
DTSTAMP:20260422T073038
CREATED:20250328T154507Z
LAST-MODIFIED:20250521T111056Z
UID:757-1749466800-1749470400@www.ack-hd.de
SUMMARY:Ökumenischer Gottesdienst
DESCRIPTION:1700 Jahre Ökumene
URL:https://www.ack-hd.de/event/oekumenischer-gottesdienst/
LOCATION:Heiliggeistkirche Heidelberg\, Hauptstraße 189\, Heidelberg\, 69117\, Deutschland
CATEGORIES:Gottesdienste
END:VEVENT
END:VCALENDAR